BEGIN:VCALENDAR
VERSION:2.0
PRODID:-//Eventin//Event Calendar//EN
CALSCALE:GREGORIAN
METHOD:PUBLISH
BEGIN:VEVENT
UID:02c954499170c621fada6c3e00b0d20d@www.aanr.com
SUMMARY:“Nude Bowling with the Stars!”
DESCRIPTION: Glamour\, Strikes\, and Cheeks — Oh My! \nCome as your bol
 dest\, brightest celebrity self… just leave the pants at home. Whether yo
 u channel the swagger of a rock legend\, the charisma of a movie icon\, or 
 the intensity of a sports superstar\, this is your night to shine on the la
 nes and bowl like a star!\n COSTUME CONTEST – BOWLING WITH THE STARS EDI
 TION Participants are encouraged to come dressed as their favorite movie 
 star\, sports star\, or rock star—with a naturist twist\, of course!\nLet
  your imagination run wild (and your skin run free) –\n Cash prizes will
  be awarded for the top three most creative costumes!\nThink strategically 
 placed accessories\, glitter\, body paint\, signature hairstyles\, sunglass
 es\, microphones\, championship belts\, or anything else that captures the 
 spirit of your favorite star while keeping things fun and playful.\nDate: 
 Monday\, May 11\, 2026Time: 6:00 PM to 9:00 PMLocation: Denver\, Colorado
 Cost: $35 per person in advance\n\nChildren 12 & under are free!\nAdmissio
 n includes ball and shoe rental\, unlimited games played.\nDoors open at 6
 :00 PM and are locked at 7:00 PM\, so please arrive promptly.\n\nThe Bar
  and Grill will be open for food and beverage service paid separately with
  cash or your credit card.\nThis family-friendly event is exclusive to memb
 ers and guests of The Rocky Mountain Naturist Club and is CLOSED to the 
 general public. We have rented the entire bowling facility to keep this eve
 nt nudist-friendly and protect everyone's privacy. We encourage those who h
 ave never done this activity before to come out and give it a try.\nThis is
  primarily a social event—bowling skills are NOT required. Just come to
  meet people\, socialize\, and have a good time. Bowl as much or as little 
 as you want\, then sit back and watch the fun. It’s all good with us!\nSe
 nd an email to RMNCDenver@gmail.com for more information and to purchase 
 tickets.
LOCATION:https://www.rockymountainnaturistclub.org/
DTSTAMP:20260422T090753Z
DTSTART:20260511T100000Z
DTEND:20260512T010000Z
END:VEVENT
END:VCALENDAR
