BEGIN:VCALENDAR
VERSION:2.0
PRODID:-//Eventin//Event Calendar//EN
CALSCALE:GREGORIAN
METHOD:PUBLISH
BEGIN:VEVENT
UID:51126dd52c46cb0fc7b3d80d3c728ee3@www.aanr.com
SUMMARY:International Naked Hiking Day. June 21\, 2026\, 10:00 AM. 
DESCRIPTION:International Naked Hiking Day. June 21\, 2026\, 10:00 AM. \n
 Wilson River Trail\, Tillamook\, OR.\nInternational Naked Hiking Day\, whic
 h also falls on Father's Day!\nAs we rediscover the Wilson River Trail Foot
 bridge trailhead. This is the third year but the second time we will have h
 iked this trail. (Last year was rained out.) Imagine yourself hiking naked 
 in the Tillamook State Forest in a group of like-minded naked hikers! On th
 is 9.7-mile out-and-back trail.\nFor more information goto\, wanderingbare
 .net 
LOCATION:Wilson River Trail\, Tillamook\, OR
DTSTAMP:20260422T142933Z
DTSTART:20260621T140000Z
DTEND:20260621T210000Z
END:VEVENT
END:VCALENDAR
