BEGIN:VCALENDAR
VERSION:2.0
PRODID:-//Eventin//Event Calendar//EN
CALSCALE:GREGORIAN
METHOD:PUBLISH
BEGIN:VEVENT
UID:499e9a36ed69683090c320b91acfcf84@www.aanr.com
SUMMARY:International Skinny-Dipping Day. July 11\, 2026\, 10:00 AM
DESCRIPTION:International Skinny-Dipping Day. July 11\, 2026\, 10:00 AM\nM
 arion Lake Trailhead\, Detroit\, OR.\nCelebrate the joy of International Sk
 inny-Dipping Day\, which takes place each year on the second Saturday in Ju
 ly! The Wandering Bare Nudist Group warmly invites you to experience the ex
 hilarating freedom of swimming au naturel. This delightful observance champ
 ions body positivity\, self-acceptance\, and a profound connection with the
  beauty of nature.\nFor more information goto\, wanderingbare.net 
LOCATION:Marion Lake Trailhead\, Detroit\, OR.
DTSTAMP:20260422T142609Z
DTSTART:20260711T140000Z
DTEND:20260711T210000Z
END:VEVENT
END:VCALENDAR
